BEGIN:VCALENDAR
VERSION:2.0
PRODID:-//International Space University - ECPv6.15.20//NONSGML v1.0//EN
CALSCALE:GREGORIAN
METHOD:PUBLISH
X-ORIGINAL-URL:https://www.isunet.edu
X-WR-CALDESC:Events for International Space University
REFRESH-INTERVAL;VALUE=DURATION:PT1H
X-Robots-Tag:noindex
X-PUBLISHED-TTL:PT1H
BEGIN:VTIMEZONE
TZID:Europe/Paris
BEGIN:DAYLIGHT
TZOFFSETFROM:+0100
TZOFFSETTO:+0200
TZNAME:CEST
DTSTART:20240331T010000
END:DAYLIGHT
BEGIN:STANDARD
TZOFFSETFROM:+0200
TZOFFSETTO:+0100
TZNAME:CET
DTSTART:20241027T010000
END:STANDARD
BEGIN:DAYLIGHT
TZOFFSETFROM:+0100
TZOFFSETTO:+0200
TZNAME:CEST
DTSTART:20250330T010000
END:DAYLIGHT
BEGIN:STANDARD
TZOFFSETFROM:+0200
TZOFFSETTO:+0100
TZNAME:CET
DTSTART:20251026T010000
END:STANDARD
BEGIN:DAYLIGHT
TZOFFSETFROM:+0100
TZOFFSETTO:+0200
TZNAME:CEST
DTSTART:20260329T010000
END:DAYLIGHT
BEGIN:STANDARD
TZOFFSETFROM:+0200
TZOFFSETTO:+0100
TZNAME:CET
DTSTART:20261025T010000
END:STANDARD
END:VTIMEZONE
BEGIN:VEVENT
DTSTART;VALUE=DATE:20251027
DTEND;VALUE=DATE:20251030
DTSTAMP:20260423T050239
CREATED:20250826T080819Z
LAST-MODIFIED:20250826T094243Z
UID:21195-1761523200-1761782399@www.isunet.edu
SUMMARY:ESC25 Copernicus
DESCRIPTION:Hosted by the International Space University (ISU)Supported by CNES \nJoin us for a dynamic\, hands-on training experience that explores how satellite data from the Copernicus Earth observation program can be used to shape real-world solutions to climate challenges. Designed for a multidisciplinary\, non-expert audience\, this course demystifies Copernicus capabilities and brings space-based data to life.Whether you’re a student\, public official\, or development professional\, you’ll leave empowered to translate satellite data into meaningful action. \nBe part of the solution. Learn how space data can drive climate resilience—locally and globally.
URL:https://www.isunet.edu/event/esc25-copernicus/
LOCATION:ISU Central Campus\, ISU Central Campus\, ILLKIRCH-GRAFFENSTADEN\, France\, 67400\, France
CATEGORIES:ESC
ATTACH;FMTTYPE=image/jpeg:https://www.isunet.edu/wp-content/uploads/2025/04/ESC-ISU.jpg
END:VEVENT
END:VCALENDAR