BEGIN:VCALENDAR
VERSION:2.0
PRODID:-//International Space University - ECPv6.15.20//NONSGML v1.0//EN
CALSCALE:GREGORIAN
METHOD:PUBLISH
X-WR-CALNAME:International Space University
X-ORIGINAL-URL:https://www.isunet.edu
X-WR-CALDESC:Events for International Space University
REFRESH-INTERVAL;VALUE=DURATION:PT1H
X-Robots-Tag:noindex
X-PUBLISHED-TTL:PT1H
BEGIN:VTIMEZONE
TZID:Europe/Paris
BEGIN:DAYLIGHT
TZOFFSETFROM:+0100
TZOFFSETTO:+0200
TZNAME:CEST
DTSTART:20240331T010000
END:DAYLIGHT
BEGIN:STANDARD
TZOFFSETFROM:+0200
TZOFFSETTO:+0100
TZNAME:CET
DTSTART:20241027T010000
END:STANDARD
BEGIN:DAYLIGHT
TZOFFSETFROM:+0100
TZOFFSETTO:+0200
TZNAME:CEST
DTSTART:20250330T010000
END:DAYLIGHT
BEGIN:STANDARD
TZOFFSETFROM:+0200
TZOFFSETTO:+0100
TZNAME:CET
DTSTART:20251026T010000
END:STANDARD
BEGIN:DAYLIGHT
TZOFFSETFROM:+0100
TZOFFSETTO:+0200
TZNAME:CEST
DTSTART:20260329T010000
END:DAYLIGHT
BEGIN:STANDARD
TZOFFSETFROM:+0200
TZOFFSETTO:+0100
TZNAME:CET
DTSTART:20261025T010000
END:STANDARD
END:VTIMEZONE
BEGIN:VEVENT
DTSTART;TZID=Europe/Paris:20250401T180000
DTEND;TZID=Europe/Paris:20250401T190000
DTSTAMP:20260423T134929
CREATED:20250320T092115Z
LAST-MODIFIED:20250320T092310Z
UID:20476-1743530400-1743534000@www.isunet.edu
SUMMARY:[Live DOH🔴] - ISU Master or SSP25? Find Your Path in Space
DESCRIPTION:
URL:https://www.isunet.edu/event/live-doh%f0%9f%94%b4-isu-master-or-ssp25-find-your-path-in-space/
LOCATION:Online only\, Online session
CATEGORIES:MSS,SSP
ATTACH;FMTTYPE=image/jpeg:https://www.isunet.edu/wp-content/uploads/2025/03/DOH-MSS26-SSP25.jpg
END:VEVENT
BEGIN:VEVENT
DTSTART;VALUE=DATE:20250407
DTEND;VALUE=DATE:20250412
DTSTAMP:20260423T134929
CREATED:20241224T102152Z
LAST-MODIFIED:20241224T102152Z
UID:20188-1743984000-1744415999@www.isunet.edu
SUMMARY:ESC25 ISU
DESCRIPTION:Join us for the Bootcamp: Fostering Innovation & Leadership\, co-hosted by the ISU Incubator and the European Astraios Project\, from February 19–21\, 2025\, at the International Space University. \nThis dynamic three-day program is designed for master’s students\, PhD candidates\, and young professionals looking to enhance their leadership\, innovation\, and entrepreneurship skills. The bootcamp will emphasize the importance of soft skills—connecting academic technical expertise to real-world industry applications—a key component for researchers\, young professionals\, and future business leaders. 🚀 \nDon’t miss this unique and free opportunity to learn from experts\, develop your potential\, and network with like-minded individuals from diverse academic and professional backgrounds. \nProgram Overview\n\n🔥Day 1 (19/02/25): Leading Teams and Building Collaboration\n\nDiscover the power of leadership and collaboration during an inspiring day filled with expert panels\, interactive workshops\, and networking opportunities. From mastering emotional intelligence to embracing diversity and fostering innovation\, this event will equip participants with essential skills to thrive in multidisciplinary environments.\nLink to Register: https://www.isunet.edu/apply-day-1-isu-bootcamp/ \n  \n\n 📈Day 2 (20/02/25): Innovation Management and Value Creation\n\nExperience an inspiring day focused on Innovation Management and Value Creation! Dive into expert-led sessions on project management and open innovation\, participate in interactive workshops\, and connect through networking opportunities. Gain the tools to turn ideas into impactful solutions in this dynamic program tailored for researchers\, professionals\, and innovators. \nLink to Register: https://www.isunet.edu/apply-day-2-isu-bootcamp/ \n  \n\n💼Day 3 (21/02/25): Entrepreneurship and Networking\n\nImmerse yourself in a dynamic day dedicated to Entrepreneurship and Networking on February 21\, 2025\, featuring expert-led sessions\, inspiring startup journeys\, and hands-on workshops. Discover the local innovation ecosystem\, master networking strategies\, and build your personal brand while connecting with professionals and peers.\nLink to Register: https://www.isunet.edu/apply-day-3-isu-bootcamp/ \n  \nEntry is free\, but spots are limited—secure your place today!
URL:https://www.isunet.edu/event/esc25-isu/
LOCATION:ISU Central Campus\, ISU Central Campus\, ILLKIRCH-GRAFFENSTADEN\, France\, 67400\, France
CATEGORIES:ESC
ATTACH;FMTTYPE=image/jpeg:https://www.isunet.edu/wp-content/uploads/2022/03/ISU_building.jpg
END:VEVENT
END:VCALENDAR