BEGIN:VCALENDAR
VERSION:2.0
PRODID:-//International Space University - ECPv6.15.20//NONSGML v1.0//EN
CALSCALE:GREGORIAN
METHOD:PUBLISH
X-ORIGINAL-URL:https://www.isunet.edu
X-WR-CALDESC:Events for International Space University
REFRESH-INTERVAL;VALUE=DURATION:PT1H
X-Robots-Tag:noindex
X-PUBLISHED-TTL:PT1H
BEGIN:VTIMEZONE
TZID:Australia/Sydney
BEGIN:STANDARD
TZOFFSETFROM:+1100
TZOFFSETTO:+1000
TZNAME:AEST
DTSTART:20240406T160000
END:STANDARD
BEGIN:DAYLIGHT
TZOFFSETFROM:+1000
TZOFFSETTO:+1100
TZNAME:AEDT
DTSTART:20241005T160000
END:DAYLIGHT
BEGIN:STANDARD
TZOFFSETFROM:+1100
TZOFFSETTO:+1000
TZNAME:AEST
DTSTART:20250405T160000
END:STANDARD
BEGIN:DAYLIGHT
TZOFFSETFROM:+1000
TZOFFSETTO:+1100
TZNAME:AEDT
DTSTART:20251004T160000
END:DAYLIGHT
BEGIN:STANDARD
TZOFFSETFROM:+1100
TZOFFSETTO:+1000
TZNAME:AEST
DTSTART:20260404T160000
END:STANDARD
BEGIN:DAYLIGHT
TZOFFSETFROM:+1000
TZOFFSETTO:+1100
TZNAME:AEDT
DTSTART:20261003T160000
END:DAYLIGHT
END:VTIMEZONE
BEGIN:VEVENT
DTSTART;VALUE=DATE:20251212
DTEND;VALUE=DATE:20251214
DTSTAMP:20260423T050411
CREATED:20251013T090841Z
LAST-MODIFIED:20251208T095707Z
UID:21964-1765497600-1765670399@www.isunet.edu
SUMMARY:ISU Alumni Weekend 2025
DESCRIPTION:The International Space University warmly invites our alumni community to return to Strasbourg from 12–13 December 2025 for an inspiring year-end celebration. \n✨This gathering is about: \n\n\nReconnecting with fellow alumni and celebrating success stories from our global network. \n\n\nStrengthening our community bonds while exploring future opportunities. \n\n\nCelebrating together during Strasbourg’s world-famous Christmas market . \n\n\nLet’s close 2025 by honoring our achievements and looking ahead to the challenges and opportunities that unite us! \nSchedule \nFriday\, 12 December\n09:00–10:00 – Welcome coffee10:00–11:00 – Optional morning activity (Aerial visit)11:00–11:30 – Presidential welcome11:30–12:30 – Meet-and-share with MSS26 students (career advice)12:30–14:00 – Lunch at ISU with signatories of the Responsible Space Sector Statement \n14:00–17:15 – MSS26 Literature Review presentations + live art performance17:15–18:15 – ISU building tour \n18:30–19:30 – Alumni conference (hybrid) with keynote speaker20:00–23:00 – Evening in Strasbourg: Petite France stroll & group dinner \nSaturday\, 13 December\n09:30–11:00 – Alumni conference (hybrid): speakers11:00–11:30 – Coffee break11:30–12:30 – Alumni conference (hybrid): panel discussion \n12:30–14:00 – Lunch at ISU \nAfternoon – Social activities in Strasbourg:• Guided boat tour• Visit of the European Parliament or Palais Rohan• Christmas market outing (near the Ill river) \n💶 Registration Fees \n\n\n\nCategory\nEarly Bird (until 14 November 2025)\nRegular (from 15 November 2025)\n\n\n\n\nStudents / Unemployed\n50 €\n75 €\n\n\nProfessionals / Retired\n100 €\n125 €\n\n\n\n  \n🔗 Register here: https://www.isunet.edu/register-isu-alumni-week-end-2025/\n 
URL:https://www.isunet.edu/event/isu-alumni-weekend-2025/
LOCATION:ISU Central Campus\, ISU Central Campus\, ILLKIRCH-GRAFFENSTADEN\, France\, 67400\, France
CATEGORIES:Alumni
ATTACH;FMTTYPE=image/jpeg:https://www.isunet.edu/wp-content/uploads/2025/10/ISU-ALUMNI-WEEK-END-dec-2025-2.jpg
END:VEVENT
END:VCALENDAR