BEGIN:VCALENDAR
VERSION:2.0
PRODID:-//International Space University - ECPv6.15.20//NONSGML v1.0//EN
CALSCALE:GREGORIAN
METHOD:PUBLISH
X-ORIGINAL-URL:https://www.isunet.edu
X-WR-CALDESC:Events for International Space University
REFRESH-INTERVAL;VALUE=DURATION:PT1H
X-Robots-Tag:noindex
X-PUBLISHED-TTL:PT1H
BEGIN:VTIMEZONE
TZID:Australia/Sydney
BEGIN:STANDARD
TZOFFSETFROM:+1100
TZOFFSETTO:+1000
TZNAME:AEST
DTSTART:20240406T160000
END:STANDARD
BEGIN:DAYLIGHT
TZOFFSETFROM:+1000
TZOFFSETTO:+1100
TZNAME:AEDT
DTSTART:20241005T160000
END:DAYLIGHT
BEGIN:STANDARD
TZOFFSETFROM:+1100
TZOFFSETTO:+1000
TZNAME:AEST
DTSTART:20250405T160000
END:STANDARD
BEGIN:DAYLIGHT
TZOFFSETFROM:+1000
TZOFFSETTO:+1100
TZNAME:AEDT
DTSTART:20251004T160000
END:DAYLIGHT
BEGIN:STANDARD
TZOFFSETFROM:+1100
TZOFFSETTO:+1000
TZNAME:AEST
DTSTART:20260404T160000
END:STANDARD
BEGIN:DAYLIGHT
TZOFFSETFROM:+1000
TZOFFSETTO:+1100
TZNAME:AEDT
DTSTART:20261003T160000
END:DAYLIGHT
END:VTIMEZONE
BEGIN:VEVENT
DTSTART;TZID=Australia/Sydney:20251002T190000
DTEND;TZID=Australia/Sydney:20251002T210000
DTSTAMP:20260423T080513
CREATED:20250908T074912Z
LAST-MODIFIED:20250924T125843Z
UID:21285-1759431600-1759438800@www.isunet.edu
SUMMARY:ISU x IAC 2025 - Alumni Gathering
DESCRIPTION:Get together with fellow ISU Alumni for an evening of networking\, reminiscing and celebration! \nThe ISU IAC 2025 Alumni Gathering will be held at Aerial/UTS on Thursday 2nd of October at 7pm until 9pm. \nFood and one drink will be provided. Further drinks can be purchased at the bar. Please notify us of your dietary requirements. \nWin a prize in the raffle!\nA variety of prizes will be available to win on the night which you can win by buying raffle tickets. The funds raised in this raffle will go towards an SH-SSP scholarship. More information to come. \nThe event will later be opened to non-Alumni to enhance networking opportunities and raise further funds. \nThis event is proudly organised by the International Space University Australia and New Zealand Alumni Association\, with the approval of the International Space University. \nWe look forward to seeing you there!
URL:https://www.isunet.edu/event/isu-x-iac-2025-alumni-gathering/
LOCATION:University of Technology Sydney\, University of Technology Sydney\, Sydney\, Australia
CATEGORIES:Alumni
ATTACH;FMTTYPE=image/jpeg:https://www.isunet.edu/wp-content/uploads/2025/09/ISU-x-IAC-2025-ALUMNI-GATHERING.jpg
END:VEVENT
END:VCALENDAR