BEGIN:VCALENDAR
VERSION:2.0
PRODID:-//International Space University - ECPv6.15.20//NONSGML v1.0//EN
CALSCALE:GREGORIAN
METHOD:PUBLISH
X-WR-CALNAME:International Space University
X-ORIGINAL-URL:https://www.isunet.edu
X-WR-CALDESC:Events for International Space University
REFRESH-INTERVAL;VALUE=DURATION:PT1H
X-Robots-Tag:noindex
X-PUBLISHED-TTL:PT1H
BEGIN:VTIMEZONE
TZID:Europe/Paris
BEGIN:DAYLIGHT
TZOFFSETFROM:+0100
TZOFFSETTO:+0200
TZNAME:CEST
DTSTART:20240331T010000
END:DAYLIGHT
BEGIN:STANDARD
TZOFFSETFROM:+0200
TZOFFSETTO:+0100
TZNAME:CET
DTSTART:20241027T010000
END:STANDARD
BEGIN:DAYLIGHT
TZOFFSETFROM:+0100
TZOFFSETTO:+0200
TZNAME:CEST
DTSTART:20250330T010000
END:DAYLIGHT
BEGIN:STANDARD
TZOFFSETFROM:+0200
TZOFFSETTO:+0100
TZNAME:CET
DTSTART:20251026T010000
END:STANDARD
BEGIN:DAYLIGHT
TZOFFSETFROM:+0100
TZOFFSETTO:+0200
TZNAME:CEST
DTSTART:20260329T010000
END:DAYLIGHT
BEGIN:STANDARD
TZOFFSETFROM:+0200
TZOFFSETTO:+0100
TZNAME:CET
DTSTART:20261025T010000
END:STANDARD
END:VTIMEZONE
BEGIN:VEVENT
DTSTART;VALUE=DATE:20251103
DTEND;VALUE=DATE:20251108
DTSTAMP:20260423T004533
CREATED:20250826T093230Z
LAST-MODIFIED:20250826T094339Z
UID:21197-1762128000-1762559999@www.isunet.edu
SUMMARY:ESC25 CTU - AI in Space
DESCRIPTION:The International Space University (ISU) and Capitol Technology University (CTU) are proud to announce a brand-new five-day short course on Artificial Intelligence in Space\, 3-7 November 2025 in South Laurel\, Maryland near Washington DC. This cutting-edge course will explore the growing intersection between AI and space activities\, addressing topics such as autonomous systems\, data analysis\, mission planning\, and satellite operations. With expert-led lectures\, interactive sessions\, and hands-on sessions in CTU’s new AI Laboratory\, participants will gain both strategic insights and practical tools to apply the power of AI in the space sector. Capitol Technology University\, based in Laurel\, Maryland\, is a leader in engineering\, cybersecurity\, and technology education. With strong ties to government agencies and industry\, CTU offers a dynamic environment for innovation and applied research—making it an ideal partner for this forward-looking initiative. Whether you’re a professional from the space industry\, a policymaker\, or a technologist eager to understand the impact of AI on space exploration and commercialization\, this program is designed to empower and inspire.
URL:https://www.isunet.edu/event/esc25-ctu-ai-in-space/
LOCATION:Maryland\, USA\, Capitol Technology University\, South Laurel\, MD\, United States
CATEGORIES:ESC
ATTACH;FMTTYPE=image/jpeg:https://www.isunet.edu/wp-content/uploads/2025/08/ESC25-CTU-Banner.jpg
END:VEVENT
END:VCALENDAR