BEGIN:VCALENDAR
VERSION:2.0
PRODID:-//International Space University - ECPv6.15.20//NONSGML v1.0//EN
CALSCALE:GREGORIAN
METHOD:PUBLISH
X-WR-CALNAME:International Space University
X-ORIGINAL-URL:https://www.isunet.edu
X-WR-CALDESC:Events for International Space University
REFRESH-INTERVAL;VALUE=DURATION:PT1H
X-Robots-Tag:noindex
X-PUBLISHED-TTL:PT1H
BEGIN:VTIMEZONE
TZID:Europe/Paris
BEGIN:DAYLIGHT
TZOFFSETFROM:+0100
TZOFFSETTO:+0200
TZNAME:CEST
DTSTART:20240331T010000
END:DAYLIGHT
BEGIN:STANDARD
TZOFFSETFROM:+0200
TZOFFSETTO:+0100
TZNAME:CET
DTSTART:20241027T010000
END:STANDARD
BEGIN:DAYLIGHT
TZOFFSETFROM:+0100
TZOFFSETTO:+0200
TZNAME:CEST
DTSTART:20250330T010000
END:DAYLIGHT
BEGIN:STANDARD
TZOFFSETFROM:+0200
TZOFFSETTO:+0100
TZNAME:CET
DTSTART:20251026T010000
END:STANDARD
BEGIN:DAYLIGHT
TZOFFSETFROM:+0100
TZOFFSETTO:+0200
TZNAME:CEST
DTSTART:20260329T010000
END:DAYLIGHT
BEGIN:STANDARD
TZOFFSETFROM:+0200
TZOFFSETTO:+0100
TZNAME:CET
DTSTART:20261025T010000
END:STANDARD
END:VTIMEZONE
BEGIN:VEVENT
DTSTART;VALUE=DATE:20250930
DTEND;VALUE=DATE:20251002
DTSTAMP:20260423T034636
CREATED:20250606T125930Z
LAST-MODIFIED:20250826T075710Z
UID:20749-1759190400-1759363199@www.isunet.edu
SUMMARY:CNES | AERIADES - Metal Additive Manufacturing
DESCRIPTION:Overview\nCOMET MAT\, the Space Club AERIADES and the International Space University (ISU) in Strasbourg invite you to a thematic event dedicated to metal additive manufacturing.👉 Join us to exchange insights on materials\, processes\, and life cycle analysis in this fast-evolving sector. \n\nEvent Objectives\n\n\nFacilitate networking and discussions between industry\, academia\, and institutional stakeholders. \n\n\nShowcase feedback\, innovative projects\, and the latest scientific and technological advancements. \n\n\nAddress the specific challenges of the space environment\, with practical case studies presented by CNES\, including: \n\n\nMaterials constraints for space applications \n\n\nLife cycle analysis examples for launcher applications. \n\n\n\n\n\nTopics Covered\n\n\nOptimization and post-processing of additive manufacturing processes \n\n\nIn-situ defect detection and associated databases \n\n\nPost-processing techniques for additive manufacturing parts \n\n\nQualification strategies for metal additive manufacturing parts \n\n\nPowder recycling and revalorization in additive manufacturing \n\n\nEnvironmental impact assessment of additive manufacturing processes \n\n\nFabrication of architectured metallic materials \n\n\nNew metallic materials \n\n\n\nCall for Presentations\n📅 From April 15 to June 15\, 2025Would you like to share your work\, research findings\, or challenges?👉 Submit a presentation of up to 15 minutes.Submit your proposal: here \n\nProvisional Program\nTuesday\, September 30\, 2025\n09:00 – Event opening09:30 – Presentations & thematic sessions12:30 – Lunch break14:00 – Continued sessions & discussions20:00 – Social event (Participation fee: €50) \nWednesday\, October 1\, 2025\n09:00 – Workshops & panels12:30 – Lunch break14:00 – Event closing \n\nPractical Information\n📍 Venue:International Space University1 rue Jean-Dominique Cassini67400 Illkirch-Graffenstaden\, France \n🗓️ Dates:Tuesday\, September 30\, 2025 (09:00) → Wednesday\, October 1\, 2025 (14:00) \n\nRegistration\n👉 Registration is required to attend the event.Register on Evenium: https://evenium.events/0jgjcucp \n\nOrganizers\n\n\nCOMET MAT \n\n\nSpace Club AERIADES \n\n\nInternational Space University (ISU)
URL:https://www.isunet.edu/event/cnes-aeriades-metal-additive-manufacturing-materials-processes-and-life-cycle-analysis/
LOCATION:ISU Central Campus\, ISU Central Campus\, ILLKIRCH-GRAFFENSTADEN\, France\, 67400\, France
CATEGORIES:Other
ATTACH;FMTTYPE=image/png:https://www.isunet.edu/wp-content/uploads/2025/06/Banniere.png
END:VEVENT
END:VCALENDAR